View In:
ArcGIS JavaScript
ArcGIS Online Map Viewer
ArcGIS Earth
ArcGIS Pro
Service Description: Tree Canopy is defined as vegetation 8 feet tall or higher. Montgomery Planning regularly purchases LiDAR data to support various products, and the interactive tool you will see below is is one such product. Four band infrared imagery is combined with LiDAR to extract our tree canopy layers.
The 2009, 2014, and 2018 tree canopy layers used the "QL2" LiDAR standard, which captures only 4 samples per square meter. Starting with the department’s 2020 tree canopy layers, a higher quality LiDAR standard called "QL1" was used. This new technology captures 8 samples per square meter.
The new QL1 technology is better able to capture smaller saplings that the QL2 technology could have have missed. QL1 also has the ability to better detect the fringes of tree canopy. Because of the higher resolution of QL1, the overall tree canopy capture for any given area is higher than it would be if it were measured by the older QL2 today. <div><br /></div><div>For more information, contact: GIS Manager Research & Strategic Projects (RSP) Montgomery County Planning Department, MNCPPC T: 301-650-5620</div>
Map Name: Map
Legend
All Layers and Tables
Dynamic Legend
Dynamic All Layers
Layers:
Description: Tree Canopy is defined as vegetation 8 feet tall or higher. Montgomery Planning regularly purchases LiDAR data to support various products, and the interactive tool you will see below is is one such product. Four band infrared imagery is combined with LiDAR to extract our tree canopy layers.
The 2009, 2014, and 2018 tree canopy layers used the "QL2" LiDAR standard, which captures only 4 samples per square meter. Starting with the department’s 2020 tree canopy layers, a higher quality LiDAR standard called "QL1" was used. This new technology captures 8 samples per square meter.
The new QL1 technology is better able to capture smaller saplings that the QL2 technology could have have missed. QL1 also has the ability to better detect the fringes of tree canopy. Because of the higher resolution of QL1, the overall tree canopy capture for any given area is higher than it would be if it were measured by the older QL2 today. For more information, contact: GIS Manager Research & Strategic Projects (RSP) Montgomery County Planning Department, MNCPPC T: 301-650-5620
Service Item Id: 0962949264304fb68911ebb06c1e16de
Copyright Text: Research & Strategic Projects (RSP), Montgomery County Planning Department, MNCPPC
Spatial Reference:
102100
(3857)
LatestVCSWkid(0)
Single Fused Map Cache: true
Tile Info:
- Height: 256.0
- Width: 256.0
- DPI: 96.0
-
Levels of Detail: 24
-
Level ID: 1
[ Start Tile, End Tile ]
- Resolution: 78271.5169639999
- Scale: 2.95828763795777E8
-
Level ID: 2
[ Start Tile, End Tile ]
- Resolution: 39135.7584820001
- Scale: 1.47914381897889E8
-
Level ID: 3
[ Start Tile, End Tile ]
- Resolution: 19567.8792409999
- Scale: 7.3957190948944E7
-
Level ID: 4
[ Start Tile, End Tile ]
- Resolution: 9783.93962049996
- Scale: 3.6978595474472E7
-
Level ID: 5
[ Start Tile, End Tile ]
- Resolution: 4891.96981024998
- Scale: 1.8489297737236E7
- Format: PNG
- Compression Quality: 0.0
- Origin: X: -2.0037508342787E7
Y: 2.0037508342787E7
- Spatial Reference: 102100
(3857)
LatestVCSWkid(0)
Storage Info:
- Storage Format: esriMapCacheStorageModeCompactV2
- Packet Size: 128
Initial Extent:
XMin: -8660233.963153513
YMin: 4696104.186548822
XMax: -8529990.277469115
YMax: 4788511.717732724
Spatial Reference: 102100
(0)
LatestVCSWkid(0)
Full Extent:
XMin: -8630253.694
YMin: 4712312.237499997
XMax: -8559209.5281
YMax: 4772434.714599997
Spatial Reference: 102100
(0)
LatestVCSWkid(0)
Units: esriMeters
Supported Image Format Types: PNG32,PNG24,PNG,JPG,DIB,TIFF,EMF,PS,PDF,GIF,SVG,SVGZ,BMP
Document Info:
Title: Map
Author:
Comments:
Subject:
Category:
Keywords: Environment,Tree Canopy,Montgomery County Planning Department,Montgomery County,MNCPPC,Maryland
AntialiasingMode: Fast
TextAntialiasingMode: Force
Supports Dynamic Layers: true
MaxRecordCount: 2000
MaxSelectionCount: 2000
MaxImageHeight: 4096
MaxImageWidth: 4096
Supported Query Formats: JSON, geoJSON, PBF
Supports Query Data Elements: true
Min Scale: 577790.554289
Max Scale: 564.248588
Min LOD: 10
Max LOD: 20
Supports Datum Transformation: true
Child Resources:
Info
Dynamic Layer
Supported Operations:
Export Map
QueryLegends
Return Updates